BEGIN:VCALENDAR
VERSION:2.0
PRODID:-//Solarthermalworld - ECPv6.15.20//NONSGML v1.0//EN
CALSCALE:GREGORIAN
METHOD:PUBLISH
X-ORIGINAL-URL:https://solarthermalworld.org
X-WR-CALDESC:Events for Solarthermalworld
REFRESH-INTERVAL;VALUE=DURATION:PT1H
X-Robots-Tag:noindex
X-PUBLISHED-TTL:PT1H
BEGIN:VTIMEZONE
TZID:UTC
BEGIN:STANDARD
TZOFFSETFROM:+0000
TZOFFSETTO:+0000
TZNAME:UTC
DTSTART:20220101T000000
END:STANDARD
END:VTIMEZONE
BEGIN:VEVENT
DTSTART;VALUE=DATE:20230301
DTEND;VALUE=DATE:20230304
DTSTAMP:20260419T195858
CREATED:20220422T072601Z
LAST-MODIFIED:20220509T154314Z
UID:29882-1677628800-1677887999@solarthermalworld.org
SUMMARY:World Sustainable Energy Days\, 2023\, Wels\, Austria
DESCRIPTION:The European Sustainable Energy Week brings together public authorities\, private companies\, projects\, NGOs and consumers to promote initiatives to save energy and move towards renewables for clean\, secure and efficient energies. \nThe event will take place from 1 – 3 March 2023 in Wels\, Austria. \nThe organizers cordially invite you to participate with your contributions – take the opportunity to present your projects\, experiences and ideas to an international professional audience. The following options are available: \n➜ Event webseite \n\nCall for Papers\nPapers on energy efficiency and renewable energy \nMore Details \n  \nCall “Young Energy Researchers Conference”\nPapers by young researchers on (1) biomass or (2) energy efficiency\nMore Details & Online Formular (only English) \n  \nReferentInnen-Vorschlag\nSuggest a speaker (yourself or someone else)\nOnline Formular \n  \n\nReview Photo (2022)
URL:https://solarthermalworld.org/eventsingle/world-sustainable-energy-days-2023-wels-austria/
END:VEVENT
BEGIN:VEVENT
DTSTART;VALUE=DATE:20230313
DTEND;VALUE=DATE:20230318
DTSTAMP:20260419T195858
CREATED:20221010T005456Z
LAST-MODIFIED:20221023T202550Z
UID:30417-1678665600-1679097599@solarthermalworld.org
SUMMARY:ISH\, 2023\, Frankfurt am Main
DESCRIPTION:The world’s leading trade fair for water\, heat and air Opens again after turbulent times. \n\n\n\n\n\n➜ Event Website \n\n\n\n\n\n\n\n\n\nWe know which future topics our customers are currently dealing with and are closely networked with politics\, social institutions of all kinds – and above all with the industries that are present at our trade fairs. \n\n\n\n\n\n\n\nISH Digital Extension\nYou can also follow the fair online\, it is available until 24.03\n\n\n\n\n\n\nYou can apply for participation as a product representative \nRegistration\n\n\n\n\n\n\n\n\nOn March 13\, 2023\, the ISH opens in Frankfurt am Main.
URL:https://solarthermalworld.org/eventsingle/ish/
END:VEVENT
END:VCALENDAR