BEGIN:VCALENDAR
VERSION:2.0
PRODID:-//Solarthermalworld - ECPv6.15.20//NONSGML v1.0//EN
CALSCALE:GREGORIAN
METHOD:PUBLISH
X-WR-CALNAME:Solarthermalworld
X-ORIGINAL-URL:https://solarthermalworld.org
X-WR-CALDESC:Events for Solarthermalworld
REFRESH-INTERVAL;VALUE=DURATION:PT1H
X-Robots-Tag:noindex
X-PUBLISHED-TTL:PT1H
BEGIN:VTIMEZONE
TZID:UTC
BEGIN:STANDARD
TZOFFSETFROM:+0000
TZOFFSETTO:+0000
TZNAME:UTC
DTSTART:20220101T000000
END:STANDARD
END:VTIMEZONE
BEGIN:VEVENT
DTSTART;VALUE=DATE:20230912
DTEND;VALUE=DATE:20230914
DTSTAMP:20260420T025356
CREATED:20221107T182334Z
LAST-MODIFIED:20230428T144239Z
UID:30540-1694476800-1694649599@solarthermalworld.org
SUMMARY:Smart Energy Systems International Conference\, Copenhagen\, Denmark
DESCRIPTION:The Smart Energy System concept is essential for cost‐effective 100% renewable energy systems. The concept includes a focus on energy efficiency\, end use savings and sector integration to establish energy system flexibility\, harvest synergies by using all infrastructures and lower energy storage cost. \nThe aim of the conference is to create a forum for the presentation and discussion of scientific findings and experiences from industry on the topics of intelligent energy systems based on renewable energies\, 4th generation district heating technologies and systems (4GDH)\, electrification of heating and transport sectors\, electric fuels and energy efficiency. \n  \n➜Event Website  \n  \n\n“The conference has grown to become a main venue for presentations and fruitful debates on subjects that are pertinent to the development and implementation of smart energy systems to fulfill national and international objectives.” \n\n  \n  \nTopics \n\nSmart energy system analyses\, tools and methodologies\nSmart energy infrastructure and storage options\nIntegrated energy systems and smart grids\nInstitutional and organisational change for smart energy systems and radical technological change\nEnergy savings\, in the electricity sector\, in buildings and transport as well as within industry\n4th generation district heating concepts\, future district heating production and systems\nElectrification of transport\, heating and industry\nThe production\, technologies for and use of electrofuels in future energy systems\nPlanning and organisational challenges for smart energy systems and district heating\nGeographical information systems (GIS) for energy systems\, heat planning and district heating\nComponents and systems for district heating\, energy efficiency\, electrification and electrofuels\nRenewable energy sources and waste heat sources for district heating\n\nTake part at the 9th International Conference on Smart Energy Systems on 12-13 September 2023 in Copenhagen.
URL:https://solarthermalworld.org/eventsingle/30540/
END:VEVENT
END:VCALENDAR