BEGIN:VCALENDAR
VERSION:2.0
PRODID:-//Solarthermalworld - ECPv6.15.20//NONSGML v1.0//EN
CALSCALE:GREGORIAN
METHOD:PUBLISH
X-WR-CALNAME:Solarthermalworld
X-ORIGINAL-URL:https://solarthermalworld.org
X-WR-CALDESC:Events for Solarthermalworld
REFRESH-INTERVAL;VALUE=DURATION:PT1H
X-Robots-Tag:noindex
X-PUBLISHED-TTL:PT1H
BEGIN:VTIMEZONE
TZID:UTC
BEGIN:STANDARD
TZOFFSETFROM:+0000
TZOFFSETTO:+0000
TZNAME:UTC
DTSTART:20220101T000000
END:STANDARD
END:VTIMEZONE
BEGIN:VEVENT
DTSTART;VALUE=DATE:20230907
DTEND;VALUE=DATE:20230910
DTSTAMP:20260420T025306
CREATED:20230323T181640Z
LAST-MODIFIED:20230323T181640Z
UID:30912-1694044800-1694303999@solarthermalworld.org
SUMMARY:Smart City Expo World Congress\, Barcelona\, 2023
DESCRIPTION:The global population is expected to grow to 10B by 2050\, and 70% of these people will live in cities. In 40 years\, we will have built as many new cities as in all of human history.# \n  \n“Let’s keep spurring the smart urban revolution towards human-centric cities always inspired by people.” \n-> Event Website \n  \nAfter ten years helping smart cities flourish\, we enter a new decade with a global\, ever-growing community of urban leaders shaping what’s next for cities. \nEconomy \nKEY DEBATE TOPICS \n\nArtificial Intelligence\nData\nConnectivity\nCloud & Platforms\nDigital Services\nInternet of Things\n\n  \nEnergy&Environment\nKEY DEBATE TOPICS \n\nClimate Emergency\nClean Energy\nLow-Carbon Tech & Circularity
URL:https://solarthermalworld.org/eventsingle/smart-city-expo-world-congress-barcelona-2023/
END:VEVENT
END:VCALENDAR