BEGIN:VCALENDAR
VERSION:2.0
PRODID:-//Solarthermalworld - ECPv6.15.20//NONSGML v1.0//EN
CALSCALE:GREGORIAN
METHOD:PUBLISH
X-WR-CALNAME:Solarthermalworld
X-ORIGINAL-URL:https://solarthermalworld.org
X-WR-CALDESC:Events for Solarthermalworld
REFRESH-INTERVAL;VALUE=DURATION:PT1H
X-Robots-Tag:noindex
X-PUBLISHED-TTL:PT1H
BEGIN:VTIMEZONE
TZID:UTC
BEGIN:STANDARD
TZOFFSETFROM:+0000
TZOFFSETTO:+0000
TZNAME:UTC
DTSTART:20220101T000000
END:STANDARD
END:VTIMEZONE
BEGIN:VEVENT
DTSTART;VALUE=DATE:20230525
DTEND;VALUE=DATE:20230526
DTSTAMP:20260419T214318
CREATED:20230427T074059Z
LAST-MODIFIED:20230504T071417Z
UID:31002-1684972800-1685059199@solarthermalworld.org
SUMMARY:100% RHC Event 2023\, Turin\, Italy
DESCRIPTION:You are kindly invited to the yearly conference “Towards 100% renewable energy-based heating and cooling in Europe: A secure energy supply in times of crisis” by RHC-ETIP (the European Technology and Innovation Platform on Renewable Heating and Cooling). \n➜ Event Website \n______________________________________________________________________________________________________________________ \nThe conference will take place in Turin\, Italy\, on May 25. It will include talks on political and technical panels\, demonstrations of various heating and renewable energy solutions\, and the Italian national roundtable. The afternoon’s national roundtable discussion will provide a more in-depth look at the nation’s views on RHC. \n______________________________________________________________________________________________________________________ \n  \n  \n 
URL:https://solarthermalworld.org/eventsingle/100-rhc-event-2023/
END:VEVENT
END:VCALENDAR