BEGIN:VCALENDAR
VERSION:2.0
PRODID:-//Solarthermalworld - ECPv6.15.20//NONSGML v1.0//EN
CALSCALE:GREGORIAN
METHOD:PUBLISH
X-WR-CALNAME:Solarthermalworld
X-ORIGINAL-URL:https://solarthermalworld.org
X-WR-CALDESC:Events for Solarthermalworld
REFRESH-INTERVAL;VALUE=DURATION:PT1H
X-Robots-Tag:noindex
X-PUBLISHED-TTL:PT1H
BEGIN:VTIMEZONE
TZID:UTC
BEGIN:STANDARD
TZOFFSETFROM:+0000
TZOFFSETTO:+0000
TZNAME:UTC
DTSTART:20220101T000000
END:STANDARD
END:VTIMEZONE
BEGIN:VEVENT
DTSTART;VALUE=DATE:20230509
DTEND;VALUE=DATE:20230512
DTSTAMP:20260419T214353
CREATED:20230226T183049Z
LAST-MODIFIED:20230226T183049Z
UID:30839-1683590400-1683849599@solarthermalworld.org
SUMMARY:The IETS TCP´s International Conference\, 2023\, Sweden
DESCRIPTION:Industry is one of the largest GHG (Greenhouse Gas) emitting sectors globally. The transformation of this sector for higher energy efficiency and GHG mitigation is crucial for industrial and societal economy and climate. \n  \n“This is where the industry\, academy and policy makers meet to discuss measures\, opportunities and obstacles for achieving a future energy-efficient industry with zero or negative emissions.” \nThe main objectives of the conference are: \n\nTo give an overview of important developments of and measures for achieving energy efficiency and radical GHG mitigation in future industries\nTo identify urgent needs for further work\nTo improve the knowledge about the possible roles of different major measures for achieving zero or negative emissions in industrial plants as well as the importance of a system perspective\nTo give opportunities for experts in specific areas to participate in international networking\n\n  \n  \n  \nRegistration \n 
URL:https://solarthermalworld.org/eventsingle/the-iets-tcps-international-conference-2023-sweden/
END:VEVENT
END:VCALENDAR