BEGIN:VCALENDAR
VERSION:2.0
PRODID:-//Solarthermalworld - ECPv6.15.20//NONSGML v1.0//EN
CALSCALE:GREGORIAN
METHOD:PUBLISH
X-WR-CALNAME:Solarthermalworld
X-ORIGINAL-URL:https://solarthermalworld.org
X-WR-CALDESC:Events for Solarthermalworld
REFRESH-INTERVAL;VALUE=DURATION:PT1H
X-Robots-Tag:noindex
X-PUBLISHED-TTL:PT1H
BEGIN:VTIMEZONE
TZID:UTC
BEGIN:STANDARD
TZOFFSETFROM:+0000
TZOFFSETTO:+0000
TZNAME:UTC
DTSTART:20210101T000000
END:STANDARD
END:VTIMEZONE
BEGIN:VEVENT
DTSTART;VALUE=DATE:20220926
DTEND;VALUE=DATE:20221001
DTSTAMP:20260420T004513
CREATED:20220426T140448Z
LAST-MODIFIED:20220507T134533Z
UID:29914-1664150400-1664582399@solarthermalworld.org
SUMMARY:SolarPACES\, 2022\, Albuquerque\, New Mexico\, USA
DESCRIPTION:SolarPACES is the premier international network advancing research\, development\, and commercial deployment of concentrating solar-thermal power (CSP) and related technologies. \n  \n\n“CSP continues to see significant global growth\, with approximately a gigawatt of capacity currently under construction. Integration with thermal energy storage continues to prove that the technology can provide flexible\, dispatchable solar energy any time of day. “ \n\nConference Topics\n• Advanced materials\, manufacturing\, and components\n• Commercial Projects\n• Emerging and Disruptive Concepts\n• Measurement Systems\, Devices\, and Procedures\n• CSP Integration\, Markets\, and Policy\n• Power Cycles\n• Solar Industrial Process Heat and Thermal Desalination\n• Operations\, Maintenance\, and Component Reliability\n• Analysis and Simulation of CSP and Hybridized Systems\n• Solar Fuels and Chemical Commodities\n• Solar Resource Assessment\n• Thermal Energy Storage Materials\, Media\, and Systems\n• Solar Collector Systems\n• Receivers and Heat Transfer Media and Transport: Linear Systems\n• Receivers and Heat Transfer Media and Transport: Point Focus Systems \n  \nRegistration
URL:https://solarthermalworld.org/eventsingle/solarpaces-2022-albuquerque-new-mexico-usa/
END:VEVENT
BEGIN:VEVENT
DTSTART;VALUE=DATE:20220926
DTEND;VALUE=DATE:20221001
DTSTAMP:20260420T004513
CREATED:20220507T133746Z
LAST-MODIFIED:20220509T154635Z
UID:29984-1664150400-1664582399@solarthermalworld.org
SUMMARY:European Sustainable Energy Week\, 2022\, Belgium
DESCRIPTION:The Policy Conference is the largest European conference on renewable energy and energy efficiency in Europe. This year’s Policy Conference will take place from 26 to 29 September 2022 in a hybrid format. \nIf you are contributing to clean\, secure and efficient energy\, then\, the European Sustainable Energy Week is for you. \n➜Event webseite \n\n“It is an opportunity to meet stakeholders promoting energy efficiency and renewable energies\, learn about successful policies\, and inspire innovation towards meeting the EU’s energy and climate goals. “ \n\nUnder the motto “Environmentally friendly and digital for Europe’s energy transition”\, the event covers the following topics: \n\na high-level political conference\nthe awards\nthird European Youth Energy Day\n\nas well as opportunities for bilateral meetings\, booths and other networking activities.
URL:https://solarthermalworld.org/eventsingle/european-sustainable-energy-week-2022-belgium/
END:VEVENT
END:VCALENDAR