BEGIN:VCALENDAR
VERSION:2.0
PRODID:-//Solarthermalworld - ECPv6.15.20//NONSGML v1.0//EN
CALSCALE:GREGORIAN
METHOD:PUBLISH
X-WR-CALNAME:Solarthermalworld
X-ORIGINAL-URL:https://solarthermalworld.org
X-WR-CALDESC:Events for Solarthermalworld
REFRESH-INTERVAL;VALUE=DURATION:PT1H
X-Robots-Tag:noindex
X-PUBLISHED-TTL:PT1H
BEGIN:VTIMEZONE
TZID:UTC
BEGIN:STANDARD
TZOFFSETFROM:+0000
TZOFFSETTO:+0000
TZNAME:UTC
DTSTART:20210101T000000
END:STANDARD
END:VTIMEZONE
BEGIN:VEVENT
DTSTART;VALUE=DATE:20220620
DTEND;VALUE=DATE:20220623
DTSTAMP:20260420T081627
CREATED:20220413T051054Z
LAST-MODIFIED:20220509T161836Z
UID:29853-1655683200-1655942399@solarthermalworld.org
SUMMARY:XVIII Congreso Ibérico y XIV Congreso Iberoamericano de Energía Solar\, 2022\, Palma\, Spain
DESCRIPTION:The Iberian Congress of Solar Energy has been held in Spain and Portugal since 1982\, and has been held jointly with the Ibero-American Congress of Solar Energy in thirteen of its seventeen editions. It is therefore the most important and most traditional congress in the field of solar energy in Spanish and Portuguese. \n➜Event webseite \n\n“This year they want to celebrate in a special way the 40th anniversary of the first congress\, remembering and inviting members of the first editions and making a presentation to celebrate this anniversary.” \n\n  \nThe Congress will take place in the Decade of Action established by the United Nations to achieve the Sustainable Development Goals and develop the global commitment to achieve the 2030 Agenda\, which sets new targets for Renewable Energies\, as a result of the commitments of the Paris Agreement\, in which Renewable Energies are called to play a fundamental role in defending the planet and environmental sustainability for future generations. \n  \n  \nRegistration
URL:https://solarthermalworld.org/eventsingle/xviii-congreso-iberico-y-xiv-congreso-iberoamericano-de-energia-solar-2022/
END:VEVENT
END:VCALENDAR