BEGIN:VCALENDAR
VERSION:2.0
PRODID:-//Solarthermalworld - ECPv6.15.20//NONSGML v1.0//EN
CALSCALE:GREGORIAN
METHOD:PUBLISH
X-WR-CALNAME:Solarthermalworld
X-ORIGINAL-URL:https://solarthermalworld.org
X-WR-CALDESC:Events for Solarthermalworld
REFRESH-INTERVAL;VALUE=DURATION:PT1H
X-Robots-Tag:noindex
X-PUBLISHED-TTL:PT1H
BEGIN:VTIMEZONE
TZID:UTC
BEGIN:STANDARD
TZOFFSETFROM:+0000
TZOFFSETTO:+0000
TZNAME:UTC
DTSTART:20210101T000000
END:STANDARD
END:VTIMEZONE
BEGIN:VEVENT
DTSTART;VALUE=DATE:20220616
DTEND;VALUE=DATE:20220617
DTSTAMP:20260420T081628
CREATED:20220413T042844Z
LAST-MODIFIED:20220509T162114Z
UID:29837-1655337600-1655423999@solarthermalworld.org
SUMMARY:Etats Généraux de la Chaleur Solaire\, 2022\, Montpellier\, France
DESCRIPTION:As an introduction to the annual institutional meeting of the sector\, a visit to the Narbosol solar thermal power plant in Narbonne will take place the day before. This free tour takes place on June 15th from 14:30 to 15:30! \n➜Event webseite \n\n“Enerplan\, in collaboration with Atlansun\, organised the 8th edition of the Etats Généraux de la Chaleur Solaire\, which took place on June 15th near Vannes in Brittany. This edition was a resounding success\, with more than 500 registrations for the event.”  \n\nPlan \n09:00 – 09:30: OPENING OF THE PLENUM \n09:30 – 10:00: UPDATE ON THE MARKETS \n– The latest figures from the industry\n– Regulatory update (RE2020\, material recycling etc. ) \n10:00 – 11:15 a. m. : WHAT STRATEGY FOR THE BUSINESS TO 2030? \n– Regulatory objectives\n– What vision for 2030 – 2050?\n– Strategy proposals and industry recommendations \n11:15 – 11:30 a. m. : COFFEE USE \n11:30 – 12:30: TERRITORIES IN THE HEART OF DYNAMICS \n– Customers testify\n– Focus on solar heat in Occitania: Territorial Structuring with Territoires d Occitania \n12:30 – 12:45: CLOSING OF THE PLENARY \n12:45 – 14:00: LUNCHING \n  \nThe event will be held in French
URL:https://solarthermalworld.org/eventsingle/general-states-of-solar-heat-2022-montpellier-france/
END:VEVENT
END:VCALENDAR