BEGIN:VCALENDAR
VERSION:2.0
PRODID:-//Solarthermalworld - ECPv6.15.20//NONSGML v1.0//EN
CALSCALE:GREGORIAN
METHOD:PUBLISH
X-WR-CALNAME:Solarthermalworld
X-ORIGINAL-URL:https://solarthermalworld.org
X-WR-CALDESC:Events for Solarthermalworld
REFRESH-INTERVAL;VALUE=DURATION:PT1H
X-Robots-Tag:noindex
X-PUBLISHED-TTL:PT1H
BEGIN:VTIMEZONE
TZID:UTC
BEGIN:STANDARD
TZOFFSETFROM:+0000
TZOFFSETTO:+0000
TZNAME:UTC
DTSTART:20210101T000000
END:STANDARD
END:VTIMEZONE
BEGIN:VEVENT
DTSTART;VALUE=DATE:20220615
DTEND;VALUE=DATE:20220616
DTSTAMP:20260420T081625
CREATED:20220316T054410Z
LAST-MODIFIED:20220509T161950Z
UID:29742-1655251200-1655337599@solarthermalworld.org
SUMMARY:Industry Day 2022\, SPF Rapperswil\, Switzerland
DESCRIPTION:With the aim of creating a sustainable energy supply in an environment worth living in\, the Institute of Solar Technology organizes the “Industry-Day”.\nThe SPF is a driving force in the research and development of innovative components\, systems and processes.\n➜ Event website \n\n\n\n“we are convinced that we can achieve this goal by using renewable energies and solar energy in particular. Industrialized nations are thus reducing their CO2 emissions and their dependence on fossil fuels.” ~ SPF\n\n\n\n\nThe Institute of Solar Technology cordially invites you to the anniversary – Industry Day on Wednesday\, 15 June 2022.\nYou can register from now on. The deadline for applications is 13 June 2022.\n\n\n!The event will be held in German! \n\n\n\nRegistration
URL:https://solarthermalworld.org/eventsingle/industrietag-2022-spf-rapperswil-schweiz/
END:VEVENT
END:VCALENDAR