BEGIN:VCALENDAR
VERSION:2.0
PRODID:-//Solarthermalworld - ECPv6.15.20//NONSGML v1.0//EN
CALSCALE:GREGORIAN
METHOD:PUBLISH
X-ORIGINAL-URL:https://solarthermalworld.org
X-WR-CALDESC:Events for Solarthermalworld
REFRESH-INTERVAL;VALUE=DURATION:PT1H
X-Robots-Tag:noindex
X-PUBLISHED-TTL:PT1H
BEGIN:VTIMEZONE
TZID:UTC
BEGIN:STANDARD
TZOFFSETFROM:+0000
TZOFFSETTO:+0000
TZNAME:UTC
DTSTART:20210101T000000
END:STANDARD
END:VTIMEZONE
BEGIN:VEVENT
DTSTART;VALUE=DATE:20220406
DTEND;VALUE=DATE:20220409
DTSTAMP:20260420T145031
CREATED:20211213T104303Z
LAST-MODIFIED:20211213T104532Z
UID:29089-1649203200-1649462399@solarthermalworld.org
SUMMARY:World Sustainable Energy Days 2022\, Wels\, Austria
DESCRIPTION:In 2022\, the World Sustainable Energy Days (WSED) present the far-reaching transformation of policies\, technologies and markets and how to raise the pace of change. The WSED are a leading annual conference on the energy transition and climate neutrality with more than 650 participants from over 60 countries.
URL:https://solarthermalworld.org/eventsingle/world-sustainable-energy-days-2022-wels-austria/
END:VEVENT
END:VCALENDAR